Workbook

Sheet Kostnader
A1: KOSTNADSKALKYL FÖR MARKNADSFÖRING OCH DISTRIBUTION
G2: Fyll i siffrorna i dessa kolumner
A3: Filmens namn: | F3: ▼ | G3: ▼ | H3: ▼
A4: Distributionsbolag: | F4: Sökandens kostnader | G4: Andras kostnader
A5: Produktionsbolag:
A6: Premiärdatum: | H6: Samarbets- partner
D7: Kostnader | E7: % | F7: Distributör | G7: Producent
A8: 1. FÖRHANDSTESTNING AV FILMEN OCH EXIT POLL
B9: Förhandstestning | D9: =F9+G9+H9 -> 0
B10: Exit poll | D10: =F10+G10+H10 -> 0
B11: Publikundersökning | D11: =F11+G11+H11 -> 0
A12: FÖRHANDSTESTNING OCH EXIT POLL TOTALT | D12: =SUM(D9:D11) -> 0 | E12: =D12/D100 -> #DIV/0! | F12: =SUM(F9:F11) -> 0 | G12: =SUM(G9:G11) -> 0 | H12: =SUM(H9:H11) -> 0
A14: 2. MARKNADSFÖRINGSKOSTNADER
B15: MATERIALPRODUKTION
B16: Teaser/trailer | D16: =F16+G16+H16 -> 0
B17: Living one-sheet | D17: =F17+G17+H17 -> 0
B18: Presskit | D18: =F18+G18+H18 -> 0
B19: Planeringskostnader (key art, grafisk profil...) | D19: =F19+G19+H19 -> 0
B20: Affisch | D20: =F20+G20+H20 -> 0
B21: Tidningsannonser, annonsbilder för digitala medier | D21: =F21+G21+H21 -> 0
B22: Produktionskostnader för utomhusreklam | D22: =F22+G22+H22 -> 0
B23: TV-spot | D23: =F23+G23+H23 -> 0
B24: Radiospot | D24: =F24+G24+H24 -> 0
B25: Videor och annan innehållsproduktion för sociala medier | D25: =F25+G25+H25 -> 0
B26: Fraktkostnader för marknadsföring | D26: =F26+G26+H26 -> 0
B27: Övriga, vilka? | D27: =F27+G27+H27 -> 0
B28: Totalt | D28: =F28+G28+H28 -> 0 | E28: =D28/D100 -> #DIV/0!
B29: MEDIEKÖP
B30: Tidningsannonsering | C30: Köpt kampanj | D30: =F30+G30+H30 -> 0
C31: + Samarbetets värde | D31: =F31+G31+H31 -> 0
B32: TV-kampanj | C32: Köpt kampanj | D32: =F32+G32+H32 -> 0
C33: + Samarbetets värde | D33: =F33+G33+H33 -> 0
B34: Radiokampanj | C34: Köpt kampanj | D34: =F34+G34+H34 -> 0
C35: + Samarbetets värde | D35: =F35+G35+H35 -> 0
B36: Utomhusreklam | C36: Köpt kampanj | D36: =F36+G36+H36 -> 0
C37: + Samarbetets värde | D37: =F37+G37+H37 -> 0
B38: Biografreklam | C38: Köpt kampanj | D38: =F38+G38+H38 -> 0
C39: + Samarbetets värde | D39: =F39+G39+H39 -> 0
B40: Sociala medier | C40: Köpt kampanj | D40: =F40+G40+H40 -> 0
C41: + Samarbetets värde | D41: =F41+G41+H41 -> 0
...

Sheet Finansiering
A1: FINANSIERINGSPLAN FÖR MARKNADSFÖRING OCH DISTRIBUTION
B3: Filmens namn: | C3: =Kostnader!C3 -> 0
B4: Distributör: | C4: =Kostnader!C4 -> 0
B5: Produktionsbolag: | C5: =Kostnader!C5 -> 0
B6: Premiärdatum: | C6: =Kostnader!C6 -> 0
B8: FINANSIERING | D8: € | E8: %
A9: Stöd till sökanden | B9: SES/Marknadsförings- och distributionsstöd: | D9: 0 | E9: =D9/D18 -> #DIV/0! | G9: Ange det ansökta stödet.
A10: Sökandens egen finansiering | B10: Distributörens egen finansiering: | D10: =Kostnader!F100-D9 -> 0 | E10: =D10/D18 -> #DIV/0! | G10: Distributörens egen finansiering beräknas automatiskt när du har fyllt i kostnaderna.
A11: Övrig finansiering | B11: Producentens egen finansiering: | D11: =Kostnader!G100 -> 0 | E11: =D11/D18 -> #DIV/0! | G11: Producentens egen finansiering läggs till automatiskt när du har fyllt i kostnaderna.
B12: Samarbetspartner: | C12: - | D12: 0 | E12: =D12/D18 -> #DIV/0! | G12: Ange samarbetspartnernas andelar.
C13: - | D13: 0 | E13: =D13/D18 -> #DIV/0!
C14: - | D14: 0 | E14: =D14/D18 -> #DIV/0!
C15: - | D15: 0 | E15: =D15/D18 -> #DIV/0!
B16: Övriga: | D16: 0 | E16: =D16/D18 -> #DIV/0!
B18: FINANSIERING TOTALT | D18: =SUM(D9:D16) -> 0
B19: KOSTNADER TOTALT | D19: =Kostnader!D100 -> 0
C21: Det ansökta stödets andel av sökandens egna kostnader | D21: =D9/SUM(D9+D10) -> #DIV/0!
C22: Det ansökta stödets andel av hela kampanjens omfattning | D22: =D9/D19 -> #DIV/0!

Sheet Slutrapport
A1: SLUTRAPPORT FÖR MARKNADSFÖRING OCH DISTRIBUTION
A3: Filmens namn: | C3: =Kostnader!C3 -> 0 | H3: Fyll i siffrorna i dessa kolumner
A4: Distributionsbolag: | C4: =Kostnader!C4 -> 0 | G4: ▼ | H4: ▼ | I4: ▼
A5: Produktionsbolag: | C5: =Kostnader!C5 -> 0 | G5: Sökandens kostnader | H5: Andras kostnader
A6: Premiärdatum: | C6: =Kostnader!C6 -> 0
A7: Ansökningsnr | I7: Samarbets- partner
D8: Kostnadskalkyl | E8: Faktiska kostnader | F8: Skillnad | G8: Distributör | H8: Producent
A9: 1. FÖRHANDSTESTNING AV FILMEN OCH EXIT POLL
B10: Förhandstestning | D10: =Kostnader!D9 -> 0 | E10: =G10+H10+I10 -> 0 | F10: =D10-E10 -> 0
B11: Exit poll | D11: =Kostnader!D10 -> 0 | E11: =G11+H11+I11 -> 0 | F11: =D11-E11 -> 0
B12: Publikundersökning | D12: =Kostnader!D12 -> 0 | E12: =G12+H12+I12 -> 0 | F12: =D12-E12 -> 0
A13: FÖRHANDSTESTNING OCH EXIT POLL TOTALT | D13: =SUM(D10:D12) -> 0 | E13: =SUM(E10:E12) -> 0 | F13: =D13-E13 -> 0 | G13: =SUM(G10:G12) -> 0 | H13: =SUM(H10:H12) -> 0 | I13: =SUM(I10:I12) -> 0
A15: 2. MARKNADSFÖRINGSKOSTNADER
B16: MATERIALPRODUKTION
B17: Teaser/trailer | D17: =Kostnader!D16 -> 0 | E17: =G17+H17+I17 -> 0 | F17: =D17-E17 -> 0
B18: Living one-sheet | D18: =Kostnader!D17 -> 0 | E18: =G18+H18+I18 -> 0 | F18: =D18-E18 -> 0
B19: Presskit | D19: =Kostnader!D18 -> 0 | E19: =G19+H19+I19 -> 0 | F19: =D19-E19 -> 0
B20: Planeringskostnader (key art, grafisk profil...) | D20: =Kostnader!D19 -> 0 | E20: =G20+H20+I20 -> 0 | F20: =D20-E20 -> 0
B21: Affisch | D21: =Kostnader!D20 -> 0 | E21: =G21+H21+I21 -> 0 | F21: =D21-E21 -> 0
B22: Tidningsannonser, annonsbilder för digitala medier | D22: =Kostnader!D21 -> 0 | E22: =G22+H22+I22 -> 0 | F22: =D22-E22 -> 0
B23: Produktionskostnader för utomhusreklam | D23: =Kostnader!D22 -> 0 | E23: =G23+H23+I23 -> 0 | F23: =D23-E23 -> 0
B24: TV-spot | D24: =Kostnader!D23 -> 0 | E24: =G24+H24+I24 -> 0 | F24: =D24-E24 -> 0
B25: Radiospot | D25: =Kostnader!D24 -> 0 | E25: =G25+H25+I25 -> 0 | F25: =D25-E25 -> 0
B26: Videor och annan innehållsproduktion för sociala medier | D26: =Kostnader!D25 -> 0 | E26: =G26+H26+I26 -> 0 | F26: =D26-E26 -> 0
B27: Fraktkostnader för marknadsföring | D27: =Kostnader!D26 -> 0 | E27: =G27+H27+I27 -> 0 | F27: =D27-E27 -> 0
B28: Övriga, vilka? | D28: =Kostnader!D27 -> 0 | E28: =G28+H28+I28 -> 0 | F28: =D28-E28 -> 0
B29: Totalt | D29: =SUM(D17:D28) -> 0 | E29: =G29+H29+I29 -> 0 | F29: =D29-E29 -> 0
B30: MEDIEKÖP
B31: Tidningsannonsering | C31: Köpt kampanj | D31: =Kostnader!D30 -> 0 | E31: =G31+H31+I31 -> 0 | F31: =D31-E31 -> 0
C32: + Samarbetets värde | D32: =Kostnader!D31 -> 0 | E32: =G32+H32+I32 -> 0 | F32: =D32-E32 -> 0
B33: TV-kampanj | C33: Köpt kampanj | D33: =Kostnader!D32 -> 0 | E33: =G33+H33+I33 -> 0 | F33: =D33-E33 -> 0
C34: + Samarbetets värde | D34: =Kostnader!D33 -> 0 | E34: =G34+H34+I34 -> 0 | F34: =D34-E34 -> 0
B35: Radiokampanj | C35: Köpt kampanj | D35: =Kostnader!D34 -> 0 | E35: =G35+H35+I35 -> 0 | F35: =D35-E35 -> 0
C36: + Samarbetets värde | D36: =Kostnader!D35 -> 0 | E36: =G36+H36+I36 -> 0 | F36: =D36-E36 -> 0
B37: Utomhusreklam | C37: Köpt kampanj | D37: =Kostnader!D36 -> 0 | E37: =G37+H37+I37 -> 0 | F37: =D37-E37 -> 0
C38: + Samarbetets värde | D38: =Kostnader!D37 -> 0 | E38: =G38+H38+I38 -> 0 | F38: =D38-E38 -> 0
B39: Biografreklam | C39: Köpt kampanj | D39: =Kostnader!D38 -> 0 | E39: =G39+H39+I39 -> 0 | F39: =D39-E39 -> 0
C40: + Samarbetets värde | D40: =Kostnader!D39 -> 0 | E40: =G40+H40+I40 -> 0 | F40: =D40-E40 -> 0
B41: Sociala medier | C41: Köpt kampanj | D41: =Kostnader!D40 -> 0 | E41: =G41+H41+I41 -> 0 | F41: =D41-E41 -> 0
C42: + Samarbetets värde | D42: =Kostnader!D41 -> 0 | E42: =G42+H42+I42 -> 0 | F42: =D42-E42 -> 0
...

Sheet Faktisk finansiering
A1: FINANSIERINGSPLAN FÖR MARKNADSFÖRING OCH DISTRIBUTION
C3: Filmens namn: | D3: =Kostnader!C3 -> 0
C4: Distributör: | D4: =Kostnader!C4 -> 0
C5: Produktionsbolag: | D5: =Kostnader!C5 -> 0
C6: Premiärdatum: | D6: =Kostnader!C6 -> 0
C7: Ansökningsnr
C9: FINANSIERING | D9: Finansieringsplan | E9: Faktisk finansiering | F9: %
A10: Stöd till sökanden | C10: SES/Marknadsförings- och distributionsstöd: | D10: =Finansiering!D9 -> 0 | E10: 0 | F10: =E10/E20 -> #DIV/0!
A11: Sökandens egen finansiering | C11: Distributörens egen finansiering: | D11: =Finansiering!D10 -> 0 | E11: 0 | F11: =E11/E20 -> #DIV/0!
A12: Övrig finansiering | C12: Producentens egen finansiering: | D12: =Finansiering!D11 -> 0 | E12: 0 | F12: =E12/E20 -> #DIV/0!
C13: Samarbetspartner: | D13: =Finansiering!D12 -> 0 | E13: 0 | F13: =E13/E20 -> #DIV/0!
D14: =Finansiering!D13 -> 0 | E14: 0 | F14: =E14/E20 -> #DIV/0!
D15: =Finansiering!D14 -> 0 | E15: 0 | F15: =E15/E20 -> #DIV/0!
D16: =Finansiering!D15 -> 0 | E16: 0 | F16: =E16/E20 -> #DIV/0!
C17: Övriga: | D17: =Finansiering!D16 -> 0 | E17: 0 | F17: =E17/E20 -> #DIV/0!
C19: FINANSIERINGSPLAN TOTALT | E19: =Finansiering!D18 -> 0
C20: FAKTISK FINANSIERING TOTALT | E20: =SUM(E10:E17) -> 0 | F20: =E20/E19 -> #DIV/0!
C21: KOSTNADSKALKYL TOTALT | E21: =Kostnader!D100 -> 0
C22: FAKTISKA KOSTNADER TOTALT | E22: =Slutrapport!E101 -> 0 | F22: =E22/E20 -> #DIV/0!
D24: Det beviljade stödets andel av sökandens egna kostnader | E24: =E10/SUM(E10+E11) -> #DIV/0!
D25: Det beviljade stödets andel av hela kampanjens omfattning | E25: =E10/E22 -> #DIV/0!
B27: Syntolkning och textning för hörselskadade (välj i slutrapporteringsskedet):
C28: Syntolkning och textning har gjorts och stöd har sökts. Ange ansökningsnummer: | F28: 0
C29: Syntolkning och textning har gjorts. Stöd söks senare.
C30: Filmstiftelsen har befriat ansökan från skyldigheten att göra syntolkning/textning
C31: Filmen är en minoritetssamproduktion
