Workbook

Sheet Kostnader
A1: KOSTNADSKALKYL FÖR MARKNADSFÖRING OCH DISTRIBUTION
G2: Fyll i siffrorna i dessa kolumner
A3: Filmens namn: | F3: ▼ | G3: ▼ | H3: ▼
A4: Distributionsbolag: | F4: Sökandens kostnader | G4: Andras kostnader
A5: Produktionsbolag:
A6: Premiärdatum: | H6: Samarbets- partner
D7: Kostnader | E7: % | F7: Distributör | G7: Producent
A8: 1. FÖRHANDSTESTNING AV FILMEN OCH EXIT POLL
B9: Förhandstestning | D9: =F9+G9+H9 -> 0
B10: Exit poll | D10: =F10+G10+H10 -> 0
B11: Publikundersökning | D11: =F11+G11+H11 -> 0
A12: FÖRHANDSTESTNING OCH EXIT POLL TOTALT | D12: =SUM(D9:D11) -> 0 | E12: =D12/D100 -> #DIV/0! | F12: =SUM(F9:F11) -> 0 | G12: =SUM(G9:G11) -> 0 | H12: =SUM(H9:H11) -> 0
A14: 2. MARKNADSFÖRINGSKOSTNADER
B15: MATERIALPRODUKTION
B16: Teaser/trailer | D16: =F16+G16+H16 -> 0
B17: Living one-sheet | D17: =F17+G17+H17 -> 0
B18: Presskit | D18: =F18+G18+H18 -> 0
B19: Planeringskostnader (key art, grafisk profil...) | D19: =F19+G19+H19 -> 0
B20: Affisch | D20: =F20+G20+H20 -> 0
B21: Tidningsannonser, annonsbilder för digitala medier | D21: =F21+G21+H21 -> 0
B22: Produktionskostnader för utomhusreklam | D22: =F22+G22+H22 -> 0
B23: TV-spot | D23: =F23+G23+H23 -> 0
B24: Radiospot | D24: =F24+G24+H24 -> 0
B25: Videor och annan innehållsproduktion för sociala medier | D25: =F25+G25+H25 -> 0
B26: Fraktkostnader för marknadsföring | D26: =F26+G26+H26 -> 0
B27: Övriga, vilka? | D27: =F27+G27+H27 -> 0
B28: Totalt | D28: =F28+G28+H28 -> 0 | E28: =D28/D100 -> #DIV/0!
B29: MEDIEKÖP
B30: Tidningsannonsering | C30: Köpt kampanj | D30: =F30+G30+H30 -> 0
C31: + Samarbetets värde | D31: =F31+G31+H31 -> 0
B32: TV-kampanj | C32: Köpt kampanj | D32: =F32+G32+H32 -> 0
C33: + Samarbetets värde | D33: =F33+G33+H33 -> 0
B34: Radiokampanj | C34: Köpt kampanj | D34: =F34+G34+H34 -> 0
C35: + Samarbetets värde | D35: =F35+G35+H35 -> 0
B36: Utomhusreklam | C36: Köpt kampanj | D36: =F36+G36+H36 -> 0
C37: + Samarbetets värde | D37: =F37+G37+H37 -> 0
B38: Biografreklam | C38: Köpt kampanj | D38: =F38+G38+H38 -> 0
C39: + Samarbetets värde | D39: =F39+G39+H39 -> 0
B40: Sociala medier | C40: Köpt kampanj | D40: =F40+G40+H40 -> 0
C41: + Samarbetets värde | D41: =F41+G41+H41 -> 0
B42: Övriga köpta kampanjer | C42: Köpt kampanj | D42: =F42+G42+H42 -> 0
C43: + Samarbetets värde | D43: =F43+G43+H43 -> 0
B44: Totalt | D44: =F44+G44+H44 -> 0 | E44: =D44/D100 -> #DIV/0!
B45: MARKNADSFÖRINGSSAMARBETE OCH IMPACTKAMPANJ
B46: Förhandsvisningar i marknadsföringssyfte | D46: =F46+G46+H46 -> 0
B47: Marknadsföringsprodukter | D47: =F47+G47+H47 -> 0
B48: Inspelningsplatsbesök | D48: =F48+G48+H48 -> 0
B49: Kundevenemang | D49: =F49+G49+H49 -> 0
B50: Marknadsföring/resor | D50: =F50+G50+H50 -> 0
B51: Marknadsföring/servering | D51: =F51+G51+H51 -> 0
B52: Influencersamarbete | D52: =F52+G52+H52 -> 0
B53: Partnerskapsmarknadsföring | D53: =F53+G53+H53 -> 0
B54: Tävlingar och konsumentaktiveringar | D54: =F54+G54+H54 -> 0
B55: Övriga marknadsföringskostnader | D55: =F55+G55+H55 -> 0
B56: Impactkampanj (impactdistribution)
B57: Planeringskostnader | D57: =F57+G57+H57 -> 0
B58: Material | D58: =F58+G58+H58 -> 0
B59: Webbplats | D59: =F59+G59+H59 -> 0
B60: Information och mediekontakter | D60: =F60+G60+H60 -> 0
B61: Tillställningar och evenemang | D61: =F61+G61+H61 -> 0
B62: Resor | D62: =F62+G62+H62 -> 0
B63: Övriga kostnader för impactarbete | D63: =F63+G63+H63 -> 0
B64: Totalt | D64: =F64+G64+H64 -> 0 | E64: =D64/D100 -> #DIV/0!
B65: KOMMUNIKATION
B66: Kommunikationsbyrå | C66: Information och mediekontakter | D66: =F66+G66+H66 -> 0
B67: Pressmaterial | D67: =F67+G67+H67 -> 0
B68: Stillbilder | D68: =F68+G68+H68 -> 0
B69: Pressvisningar/turné | D69: =F69+G69+H69 -> 0
B70: Inspelningsplatsbesök | D70: =F70+G70+H70 -> 0
B71: Podcast- och mediesamarbete | D71: =F71+G71+H71 -> 0
B72: Inbjudningsvisning | C72: salshyra | D72: =F72+G72+H72 -> 0
C73: servering | D73: =F73+G73+H73 -> 0
B74: Övriga kommunikationskostnader | D74: =F74+G74+H74 -> 0
B75: Totalt | D75: =F75+G75+H75 -> 0 | E75: =D75/D100 -> #DIV/0!
B76: LÖNER FÖR MARKNADSFÖRING
B77: Planering av marknadsföring, samarbeten och impactkampanj
B78: Lön | D78: =F78+G78+H78 -> 0
B79: Lönebikostnader | D79: =F79+G79+H79 -> 0
B80: Totalt | D80: =F80+G80+H80 -> 0 | E80: =D80/D100 -> #DIV/0!
A81: MARKNADSFÖRINGSKOSTNADER TOTALT | D81: =SUM(D28+D44+D64+D75+D80) -> 0 | E81: =D81/D100 -> #DIV/0! | F81: =SUM(F16:F80) -> 0 | G81: =SUM(G16:G80) -> 0 | H81: =SUM(H16:H80) -> 0
A83: 3. KOSTNADER FÖR BIOGRAFDISTRIBUTION
B84: DCP | D84: =F84+G84+H84 -> 0
B85: Digital distribution | D85: =F85+G85+H85 -> 0
B86: KDM | D86: =F86+G86+H86 -> 0
B87: Översättning (finska/svenska/engelska) | D87: =F87+G87+H87 -> 0
B88: Textning (finska/svenska/engelska) | D88: =F88+G88+H88 -> 0
B89: Åldersklassificering | D89: =F89+G89+H89 -> 0
B90: Lager- och fraktkostnader | D90: =F90+G90+H90 -> 0
B91: Övriga distributionskostnader | D91: =F91+G91+H91 -> 0
A92: KOSTNADER FÖR BIOGRAFDISTRIBUTION TOTALT | D92: =SUM(D84:D91) -> 0 | E92: =D92/D100 -> #DIV/0! | F92: =SUM(F84:F91) -> 0 | G92: =SUM(G84:G91) -> 0 | H92: =SUM(H84:H91) -> 0
A94: 4. MARKNADSFÖRINGS- OCH DISTRIBUTIONSKOSTNADER FÖR DIREKTUPPSPELNING OCH INSPELNINGSUTGIVNING
B95: Produktionskostnader | D95: =F95+G95+H95 -> 0
B96: Annonskostnader | D96: =F96+G96+H96 -> 0
B97: Marknadsföringskostnader | D97: =F97+G97+H97 -> 0
A98: TOTALT | D98: =SUM(D95:D97) -> 0 | E98: =D98/D100 -> #DIV/0! | F98: =SUM(F95:F97) -> 0 | G98: =SUM(G95:G97) -> 0 | H98: =SUM(H95:H97) -> 0
A100: MARKNADSFÖRINGS- OCH DISTRIBUTIONSKOSTNADER TOTALT | D100: =D12+D81+D92+D98 -> 0 | E100: =E12+E81+E92+E98 -> #DIV/0! | F100: =F12+F81+F92+F98 -> 0 | G100: =G12+G81+G92+G98 -> 0 | H100: =H12+H81+H92+H98 -> 0 | J100: =F100+G100+H100 -> 0

Sheet Finansiering
A1: FINANSIERINGSPLAN FÖR MARKNADSFÖRING OCH DISTRIBUTION
B3: Filmens namn: | C3: =Kostnader!C3 -> 0
B4: Distributör: | C4: =Kostnader!C4 -> 0
B5: Produktionsbolag: | C5: =Kostnader!C5 -> 0
B6: Premiärdatum: | C6: =Kostnader!C6 -> 0
B8: FINANSIERING | D8: € | E8: %
A9: Stöd till sökanden | B9: SES/Marknadsförings- och distributionsstöd: | D9: 0 | E9: =D9/D18 -> #DIV/0! | G9: Ange det ansökta stödet.
A10: Sökandens egen finansiering | B10: Distributörens egen finansiering: | D10: =Kostnader!F100-D9 -> 0 | E10: =D10/D18 -> #DIV/0! | G10: Distributörens egen finansiering beräknas automatiskt när du har fyllt i kostnaderna.
A11: Övrig finansiering | B11: Producentens egen finansiering: | D11: =Kostnader!G100 -> 0 | E11: =D11/D18 -> #DIV/0! | G11: Producentens egen finansiering läggs till automatiskt när du har fyllt i kostnaderna.
B12: Samarbetspartner: | C12: - | D12: 0 | E12: =D12/D18 -> #DIV/0! | G12: Ange samarbetspartnernas andelar.
C13: - | D13: 0 | E13: =D13/D18 -> #DIV/0!
C14: - | D14: 0 | E14: =D14/D18 -> #DIV/0!
C15: - | D15: 0 | E15: =D15/D18 -> #DIV/0!
B16: Övriga: | D16: 0 | E16: =D16/D18 -> #DIV/0!
B18: FINANSIERING TOTALT | D18: =SUM(D9:D16) -> 0
B19: KOSTNADER TOTALT | D19: =Kostnader!D100 -> 0
C21: Det ansökta stödets andel av sökandens egna kostnader | D21: =D9/SUM(D9+D10) -> #DIV/0!
C22: Det ansökta stödets andel av hela kampanjens omfattning | D22: =D9/D19 -> #DIV/0!

Sheet Slutrapport
A1: SLUTRAPPORT FÖR MARKNADSFÖRING OCH DISTRIBUTION
A3: Filmens namn: | C3: =Kostnader!C3 -> 0 | H3: Fyll i siffrorna i dessa kolumner
A4: Distributionsbolag: | C4: =Kostnader!C4 -> 0 | G4: ▼ | H4: ▼ | I4: ▼
A5: Produktionsbolag: | C5: =Kostnader!C5 -> 0 | G5: Sökandens kostnader | H5: Andras kostnader
A6: Premiärdatum: | C6: =Kostnader!C6 -> 0
A7: Ansökningsnr | I7: Samarbets- partner
D8: Kostnadskalkyl | E8: Faktiska kostnader | F8: Skillnad | G8: Distributör | H8: Producent
A9: 1. FÖRHANDSTESTNING AV FILMEN OCH EXIT POLL
B10: Förhandstestning | D10: =Kostnader!D9 -> 0 | E10: =G10+H10+I10 -> 0 | F10: =D10-E10 -> 0
B11: Exit poll | D11: =Kostnader!D10 -> 0 | E11: =G11+H11+I11 -> 0 | F11: =D11-E11 -> 0
B12: Publikundersökning | D12: =Kostnader!D12 -> 0 | E12: =G12+H12+I12 -> 0 | F12: =D12-E12 -> 0
A13: FÖRHANDSTESTNING OCH EXIT POLL TOTALT | D13: =SUM(D10:D12) -> 0 | E13: =SUM(E10:E12) -> 0 | F13: =D13-E13 -> 0 | G13: =SUM(G10:G12) -> 0 | H13: =SUM(H10:H12) -> 0 | I13: =SUM(I10:I12) -> 0
A15: 2. MARKNADSFÖRINGSKOSTNADER
B16: MATERIALPRODUKTION
B17: Teaser/trailer | D17: =Kostnader!D16 -> 0 | E17: =G17+H17+I17 -> 0 | F17: =D17-E17 -> 0
B18: Living one-sheet | D18: =Kostnader!D17 -> 0 | E18: =G18+H18+I18 -> 0 | F18: =D18-E18 -> 0
B19: Presskit | D19: =Kostnader!D18 -> 0 | E19: =G19+H19+I19 -> 0 | F19: =D19-E19 -> 0
B20: Planeringskostnader (key art, grafisk profil...) | D20: =Kostnader!D19 -> 0 | E20: =G20+H20+I20 -> 0 | F20: =D20-E20 -> 0
B21: Affisch | D21: =Kostnader!D20 -> 0 | E21: =G21+H21+I21 -> 0 | F21: =D21-E21 -> 0
B22: Tidningsannonser, annonsbilder för digitala medier | D22: =Kostnader!D21 -> 0 | E22: =G22+H22+I22 -> 0 | F22: =D22-E22 -> 0
B23: Produktionskostnader för utomhusreklam | D23: =Kostnader!D22 -> 0 | E23: =G23+H23+I23 -> 0 | F23: =D23-E23 -> 0
B24: TV-spot | D24: =Kostnader!D23 -> 0 | E24: =G24+H24+I24 -> 0 | F24: =D24-E24 -> 0
B25: Radiospot | D25: =Kostnader!D24 -> 0 | E25: =G25+H25+I25 -> 0 | F25: =D25-E25 -> 0
B26: Videor och annan innehållsproduktion för sociala medier | D26: =Kostnader!D25 -> 0 | E26: =G26+H26+I26 -> 0 | F26: =D26-E26 -> 0
B27: Fraktkostnader för marknadsföring | D27: =Kostnader!D26 -> 0 | E27: =G27+H27+I27 -> 0 | F27: =D27-E27 -> 0
B28: Övriga, vilka? | D28: =Kostnader!D27 -> 0 | E28: =G28+H28+I28 -> 0 | F28: =D28-E28 -> 0
B29: Totalt | D29: =SUM(D17:D28) -> 0 | E29: =G29+H29+I29 -> 0 | F29: =D29-E29 -> 0
B30: MEDIEKÖP
B31: Tidningsannonsering | C31: Köpt kampanj | D31: =Kostnader!D30 -> 0 | E31: =G31+H31+I31 -> 0 | F31: =D31-E31 -> 0
C32: + Samarbetets värde | D32: =Kostnader!D31 -> 0 | E32: =G32+H32+I32 -> 0 | F32: =D32-E32 -> 0
B33: TV-kampanj | C33: Köpt kampanj | D33: =Kostnader!D32 -> 0 | E33: =G33+H33+I33 -> 0 | F33: =D33-E33 -> 0
C34: + Samarbetets värde | D34: =Kostnader!D33 -> 0 | E34: =G34+H34+I34 -> 0 | F34: =D34-E34 -> 0
B35: Radiokampanj | C35: Köpt kampanj | D35: =Kostnader!D34 -> 0 | E35: =G35+H35+I35 -> 0 | F35: =D35-E35 -> 0
C36: + Samarbetets värde | D36: =Kostnader!D35 -> 0 | E36: =G36+H36+I36 -> 0 | F36: =D36-E36 -> 0
B37: Utomhusreklam | C37: Köpt kampanj | D37: =Kostnader!D36 -> 0 | E37: =G37+H37+I37 -> 0 | F37: =D37-E37 -> 0
C38: + Samarbetets värde | D38: =Kostnader!D37 -> 0 | E38: =G38+H38+I38 -> 0 | F38: =D38-E38 -> 0
B39: Biografreklam | C39: Köpt kampanj | D39: =Kostnader!D38 -> 0 | E39: =G39+H39+I39 -> 0 | F39: =D39-E39 -> 0
C40: + Samarbetets värde | D40: =Kostnader!D39 -> 0 | E40: =G40+H40+I40 -> 0 | F40: =D40-E40 -> 0
B41: Sociala medier | C41: Köpt kampanj | D41: =Kostnader!D40 -> 0 | E41: =G41+H41+I41 -> 0 | F41: =D41-E41 -> 0
C42: + Samarbetets värde | D42: =Kostnader!D41 -> 0 | E42: =G42+H42+I42 -> 0 | F42: =D42-E42 -> 0
B43: Övriga köpta kampanjer | C43: Köpt kampanj | D43: =Kostnader!D42 -> 0 | E43: =G43+H43+I43 -> 0 | F43: =D43-E43 -> 0
C44: + Samarbetets värde | D44: =Kostnader!D43 -> 0 | E44: =G44+H44+I44 -> 0 | F44: =D44-E44 -> 0
B45: Totalt | D45: =SUM(D31:D44) -> 0 | E45: =G45+H45+I45 -> 0 | F45: =D45-E45 -> 0
B46: MARKNADSFÖRINGSSAMARBETE OCH IMPACTKAMPANJ
B47: Förhandsvisningar i marknadsföringssyfte | D47: =Kostnader!D46 -> 0 | E47: =G47+H47+I47 -> 0 | F47: =D47-E47 -> 0
B48: Marknadsföringsprodukter | D48: =Kostnader!D47 -> 0 | E48: =G48+H48+I48 -> 0 | F48: =D48-E48 -> 0
B49: Inspelningsplatsbesök | D49: =Kostnader!D48 -> 0 | E49: =G49+H49+I49 -> 0 | F49: =D49-E49 -> 0
B50: Kundevenemang | D50: =Kostnader!D49 -> 0 | E50: =G50+H50+I50 -> 0 | F50: =D50-E50 -> 0
B51: Marknadsföring/resor | D51: =Kostnader!D50 -> 0 | E51: =G51+H51+I51 -> 0 | F51: =D51-E51 -> 0
B52: Marknadsföring/servering | D52: =Kostnader!D51 -> 0 | E52: =G52+H52+I52 -> 0 | F52: =D52-E52 -> 0
B53: Influencersamarbete | D53: =Kostnader!D52 -> 0 | E53: =G53+H53+I53 -> 0 | F53: =D53-E53 -> 0
B54: Partnerskapsmarknadsföring | D54: =Kostnader!D53 -> 0 | E54: =G54+H54+I54 -> 0 | F54: =D54-E54 -> 0
B55: Tävlingar och konsumentaktiveringar | D55: =Kostnader!D54 -> 0 | E55: =G55+H55+I55 -> 0 | F55: =D55-E55 -> 0
B56: Övriga marknadsföringskostnader | D56: =Kostnader!D55 -> 0 | E56: =G56+H56+I56 -> 0 | F56: =D56-E56 -> 0
B57: Impactkampanj (impactdistribution)
B58: Planeringskostnader | D58: =Kostnader!D57 -> 0 | E58: =G58+H58+I58 -> 0 | F58: =D58-E58 -> 0
B59: Material | D59: =Kostnader!D58 -> 0 | E59: =G59+H59+I59 -> 0 | F59: =D59-E59 -> 0
B60: Webbplats | D60: =Kostnader!D59 -> 0 | E60: =G60+H60+I60 -> 0 | F60: =D60-E60 -> 0
B61: Information och mediekontakter | D61: =Kostnader!D60 -> 0 | E61: =G61+H61+I61 -> 0 | F61: =D61-E61 -> 0
B62: Tillställningar och evenemang | D62: =Kostnader!D61 -> 0 | E62: =G62+H62+I62 -> 0 | F62: =D62-E62 -> 0
B63: Resor | D63: =Kostnader!D62 -> 0 | E63: =G63+H63+I63 -> 0 | F63: =D63-E63 -> 0
B64: Övriga kostnader för impactarbete | D64: =Kostnader!D63 -> 0 | E64: =G64+H64+I64 -> 0 | F64: =D64-E64 -> 0
B65: Totalt | D65: =SUM(D47:D64) -> 0 | E65: =G65+H65+I65 -> 0 | F65: =D65-E65 -> 0
B66: KOMMUNIKATION
B67: Kommunikationsbyrå | C67: Information och mediekontakter | D67: =Kostnader!D66 -> 0 | E67: =G67+H67+I67 -> 0 | F67: =D67-E67 -> 0
B68: Pressmaterial | D68: =Kostnader!D67 -> 0 | E68: =G68+H68+I68 -> 0 | F68: =D68-E68 -> 0
B69: Stillbilder | D69: =Kostnader!D68 -> 0 | E69: =G69+H69+I69 -> 0 | F69: =D69-E69 -> 0
B70: Pressvisningar/turné | D70: =Kostnader!D69 -> 0 | E70: =G70+H70+I70 -> 0 | F70: =D70-E70 -> 0
B71: Inspelningsplatsbesök | D71: =Kostnader!D70 -> 0 | E71: =G71+H71+I71 -> 0 | F71: =D71-E71 -> 0
B72: Podcast- och mediesamarbete | D72: =Kostnader!D71 -> 0 | E72: =G72+H72+I72 -> 0 | F72: =D72-E72 -> 0
B73: Inbjudningsvisning | C73: salshyra | D73: =Kostnader!D72 -> 0 | E73: =G73+H73+I73 -> 0 | F73: =D73-E73 -> 0
C74: servering | D74: =Kostnader!D73 -> 0 | E74: =G74+H74+I74 -> 0 | F74: =D74-E74 -> 0
B75: Övriga kommunikationskostnader | D75: =Kostnader!D74 -> 0 | E75: =G75+H75+I75 -> 0 | F75: =D75-E75 -> 0
B76: Totalt | D76: =SUM(D67:D75) -> 0 | E76: =G76+H76+I76 -> 0 | F76: =D76-E76 -> 0
B77: LÖNER FÖR MARKNADSFÖRING
B78: Planering av marknadsföring, samarbeten och impactkampanj
B79: Lön | D79: =Kostnader!D78 -> 0 | E79: =G79+H79+I79 -> 0 | F79: =D79-E79 -> 0
B80: Lönebikostnader | D80: =Kostnader!D79 -> 0 | E80: =G80+H80+I80 -> 0 | F80: =D80-E80 -> 0
B81: Totalt | D81: =SUM(D79:D80) -> 0 | E81: =G81+H81+I81 -> 0 | F81: =D81-E81 -> 0
A82: MARKNADSFÖRINGSKOSTNADER TOTALT | D82: =SUM(D29+D45+D65+D76+D81) -> 0 | E82: =SUM(E29+E45+E65+E76+E81) -> 0 | F82: =D82-E82 -> 0 | G82: =SUM(G17:G81) -> 0 | H82: =SUM(H17:H81) -> 0 | I82: =SUM(I17:I81) -> 0
A84: 3. KOSTNADER FÖR BIOGRAFDISTRIBUTION
B85: DCP | D85: =Kostnader!D84 -> 0 | E85: =G85+H85+I85 -> 0 | F85: =D85-E85 -> 0
B86: Digital distribution | D86: =Kostnader!D85 -> 0 | E86: =G86+H86+I86 -> 0 | F86: =D86-E86 -> 0
B87: KDM | D87: =Kostnader!D86 -> 0 | E87: =G87+H87+I87 -> 0 | F87: =D87-E87 -> 0
B88: Översättning (finska/svenska/engelska) | D88: =Kostnader!D87 -> 0 | E88: =G88+H88+I88 -> 0 | F88: =D88-E88 -> 0
B89: Textning (finska/svenska/engelska) | D89: =Kostnader!D88 -> 0 | E89: =G89+H89+I89 -> 0 | F89: =D89-E89 -> 0
B90: Åldersklassificering | D90: =Kostnader!D89 -> 0 | E90: =G90+H90+I90 -> 0 | F90: =D90-E90 -> 0
B91: Lager- och fraktkostnader | D91: =Kostnader!D90 -> 0 | E91: =G91+H91+I91 -> 0 | F91: =D91-E91 -> 0
B92: Övriga distributionskostnader | D92: =Kostnader!D91 -> 0 | E92: =G92+H92+I92 -> 0 | F92: =D92-E92 -> 0
A93: KOSTNADER FÖR BIOGRAFDISTRIBUTION TOTALT | D93: =SUM(D85:D92) -> 0 | E93: =SUM(E85:E92) -> 0 | F93: =D93-E93 -> 0 | G93: =SUM(G85:G92) -> 0 | H93: =SUM(H85:H92) -> 0 | I93: =SUM(I85:I92) -> 0
A95: 4. MARKNADSFÖRINGS- OCH DISTRIBUTIONSKOSTNADER FÖR DIREKTUPPSPELNING OCH INSPELNINGSUTGIVNING
B96: Produktionskostnader | D96: =Kostnader!D95 -> 0 | E96: =G96+H96+I96 -> 0 | F96: =D96-E96 -> 0
B97: Annonskostnader | D97: =Kostnader!D96 -> 0 | E97: =G97+H97+I97 -> 0 | F97: 0
B98: Marknadsföringskostnader | D98: =Kostnader!D97 -> 0 | E98: =G98+H98+I98 -> 0 | F98: =D98-E98 -> 0
A99: TOTALT | D99: =SUM(D96:D98) -> 0 | E99: =SUM(E96:E98) -> 0 | F99: =D99-E99 -> 0 | G99: =SUM(G96:G98) -> 0 | H99: =SUM(H96:H98) -> 0 | I99: =SUM(I96:I98) -> 0
A101: MARKNADSFÖRINGS- OCH DISTRIBUTIONSKOSTNADER TOTALT | D101: =D13+D82+D93+D99 -> 0 | E101: =E13+E82+E93+E99 -> 0 | F101: =D101-E101 -> 0 | G101: =G13+G82+G93+G99 -> 0 | H101: =H13+H82+H93+H99 -> 0 | I101: =I13+I82+I93+I99 -> 0

Sheet Faktisk finansiering
A1: FINANSIERINGSPLAN FÖR MARKNADSFÖRING OCH DISTRIBUTION
C3: Filmens namn: | D3: =Kostnader!C3 -> 0
C4: Distributör: | D4: =Kostnader!C4 -> 0
C5: Produktionsbolag: | D5: =Kostnader!C5 -> 0
C6: Premiärdatum: | D6: =Kostnader!C6 -> 0
C7: Ansökningsnr
C9: FINANSIERING | D9: Finansieringsplan | E9: Faktisk finansiering | F9: %
A10: Stöd till sökanden | C10: SES/Marknadsförings- och distributionsstöd: | D10: =Finansiering!D9 -> 0 | E10: 0 | F10: =E10/E20 -> #DIV/0!
A11: Sökandens egen finansiering | C11: Distributörens egen finansiering: | D11: =Finansiering!D10 -> 0 | E11: 0 | F11: =E11/E20 -> #DIV/0!
A12: Övrig finansiering | C12: Producentens egen finansiering: | D12: =Finansiering!D11 -> 0 | E12: 0 | F12: =E12/E20 -> #DIV/0!
C13: Samarbetspartner: | D13: =Finansiering!D12 -> 0 | E13: 0 | F13: =E13/E20 -> #DIV/0!
D14: =Finansiering!D13 -> 0 | E14: 0 | F14: =E14/E20 -> #DIV/0!
D15: =Finansiering!D14 -> 0 | E15: 0 | F15: =E15/E20 -> #DIV/0!
D16: =Finansiering!D15 -> 0 | E16: 0 | F16: =E16/E20 -> #DIV/0!
C17: Övriga: | D17: =Finansiering!D16 -> 0 | E17: 0 | F17: =E17/E20 -> #DIV/0!
C19: FINANSIERINGSPLAN TOTALT | E19: =Finansiering!D18 -> 0
C20: FAKTISK FINANSIERING TOTALT | E20: =SUM(E10:E17) -> 0 | F20: =E20/E19 -> #DIV/0!
C21: KOSTNADSKALKYL TOTALT | E21: =Kostnader!D100 -> 0
C22: FAKTISKA KOSTNADER TOTALT | E22: =Slutrapport!E101 -> 0 | F22: =E22/E20 -> #DIV/0!
D24: Det beviljade stödets andel av sökandens egna kostnader | E24: =E10/SUM(E10+E11) -> #DIV/0!
D25: Det beviljade stödets andel av hela kampanjens omfattning | E25: =E10/E22 -> #DIV/0!
B27: Syntolkning och textning för hörselskadade (välj i slutrapporteringsskedet):
C28: Syntolkning och textning har gjorts och stöd har sökts. Ange ansökningsnummer: | F28: 0
C29: Syntolkning och textning har gjorts. Stöd söks senare.
C30: Filmstiftelsen har befriat ansökan från skyldigheten att göra syntolkning/textning
C31: Filmen är en minoritetssamproduktion
